BEGIN:VCALENDAR
VERSION:2.0
PRODID:-//BC Hands &amp; Voices - ECPv6.15.13//NONSGML v1.0//EN
CALSCALE:GREGORIAN
METHOD:PUBLISH
X-ORIGINAL-URL:https://bchandsandvoices.com
X-WR-CALDESC:Events for BC Hands &amp; Voices
REFRESH-INTERVAL;VALUE=DURATION:PT1H
X-Robots-Tag:noindex
X-PUBLISHED-TTL:PT1H
BEGIN:VTIMEZONE
TZID:America/Vancouver
BEGIN:DAYLIGHT
TZOFFSETFROM:-0800
TZOFFSETTO:-0700
TZNAME:PDT
DTSTART:20230312T100000
END:DAYLIGHT
BEGIN:STANDARD
TZOFFSETFROM:-0700
TZOFFSETTO:-0800
TZNAME:PST
DTSTART:20231105T090000
END:STANDARD
BEGIN:DAYLIGHT
TZOFFSETFROM:-0800
TZOFFSETTO:-0700
TZNAME:PDT
DTSTART:20240310T100000
END:DAYLIGHT
BEGIN:STANDARD
TZOFFSETFROM:-0700
TZOFFSETTO:-0800
TZNAME:PST
DTSTART:20241103T090000
END:STANDARD
BEGIN:DAYLIGHT
TZOFFSETFROM:-0800
TZOFFSETTO:-0700
TZNAME:PDT
DTSTART:20250309T100000
END:DAYLIGHT
BEGIN:STANDARD
TZOFFSETFROM:-0700
TZOFFSETTO:-0800
TZNAME:PST
DTSTART:20251102T090000
END:STANDARD
END:VTIMEZONE
BEGIN:VEVENT
DTSTART;TZID=America/Vancouver:20240817T110000
DTEND;TZID=America/Vancouver:20240817T140000
DTSTAMP:20260423T184543
CREATED:20240618T174650Z
LAST-MODIFIED:20240618T174650Z
UID:3580-1723892400-1723903200@bchandsandvoices.com
SUMMARY:Summer Get-Together 2024
DESCRIPTION:Summer Get-Together 2024
URL:https://bchandsandvoices.com/event/summer-get-together-2024/
LOCATION:Conferation Park Water Park\, Canada
CATEGORIES:Kids Events,Picnics
END:VEVENT
END:VCALENDAR